BEGIN:VCALENDAR
VERSION:2.0
PRODID:-//wp-events-plugin.com//6.6.4.4//EN
BEGIN:VEVENT
UID:2@capital-immateriel.pro
DTSTART:20250606T100000Z
DTEND:20250606T180000Z
DTSTAMP:20250321T084131Z
URL:https://capital-immateriel.pro/events/lapero-des-entrepreneurs-vendred
 i-06-juin-2025/
SUMMARY:L’Apéro des entrepreneurs - Vendredi 06 Juin 2025
DESCRIPTION:Échanges informels entre entrepreneurs.
ATTACH;FMTTYPE=image/jpeg:https://capital-immateriel.pro/wp-content/upload
 s/2025/03/thumbnail_2025-06-06_AperoDesEntrepreneursAffiche-Paysage1.jpg
LOCATION:Société TPB\, La Rippe\, Le Touvet\, 38660\, France
X-APPLE-STRUCTURED-LOCATION;VALUE=URI;X-ADDRESS=La Rippe\, Le Touvet\, 3866
 0\, France;X-APPLE-RADIUS=100;X-TITLE=Société TPB:geo:0,0
END:VEVENT
END:VCALENDAR